BEGIN:VCALENDAR
VERSION:2.0
PRODID:-//CaRMS - ECPv5.16.4//NONSGML v1.0//EN
CALSCALE:GREGORIAN
METHOD:PUBLISH
X-WR-CALNAME:CaRMS
X-ORIGINAL-URL:https://www.carms.ca
X-WR-CALDESC:Events for CaRMS

BEGIN:VTIMEZONE

TZID;X-RICAL-TZSOURCE=TZINFO:America/New_York

BEGIN:STANDARD

DTSTART:20171105T020000

RDATE:20171105T020000

TZOFFSETFROM:-0400

TZOFFSETTO:-0500

TZNAME:EST

END:STANDARD

BEGIN:DAYLIGHT

DTSTART:20180311T020000

RDATE:20180311T020000

TZOFFSETFROM:-0500

TZOFFSETTO:-0400

TZNAME:EDT

END:DAYLIGHT

END:VTIMEZONE


BEGIN:VTIMEZONE
TZID:America/Toronto
BEGIN:DAYLIGHT
TZOFFSETFROM:-0500
TZOFFSETTO:-0400
TZNAME:EDT
DTSTART:20250309T070000
END:DAYLIGHT
BEGIN:STANDARD
TZOFFSETFROM:-0400
TZOFFSETTO:-0500
TZNAME:EST
DTSTART:20251102T060000
END:STANDARD
END:VTIMEZONE
BEGIN:VEVENT
DTSTART;TZID=America/Toronto:20250625T120000
DTEND;TZID=America/Toronto:20250625T120000
DTSTAMP:20260419T003105
CREATED:20210111T165100Z
LAST-MODIFIED:20260129T200204Z
UID:24676-1750852800-1750852800@www.carms.ca
SUMMARY:CaRMS Online opens for PGME offices\, program directors and administrators
DESCRIPTION:If you have a CaRMS Online account\, you can log in using your existing username and password. If you have forgotten your username or password\, click on the ‘Forgot your password’ option on the CaRMS Online login page. \nIf you are a new program director or administrator for this match and have not received an email confirming your access\, please contact your postgraduate office.
URL:https://www.carms.ca/event/carms-online-opens-for-pgme-offices-program-directors-and-administrators-3/
CATEGORIES:Faculty,PGME,Program,R-1 First Iteration
ORGANIZER;CN="CaRMS":MAILTO:help@carms.ca
END:VEVENT
BEGIN:VEVENT
DTSTART;TZID=America/Toronto:20250625T120000
DTEND;TZID=America/Toronto:20250625T120000
DTSTAMP:20260419T003105
CREATED:20210111T165108Z
LAST-MODIFIED:20250514T192651Z
UID:24674-1750852800-1750852800@www.carms.ca
SUMMARY:Program descriptions open for editing
DESCRIPTION:Program directors and administrators may log into CaRMS Online and start updating their program descriptions. Program descriptions must be finalized and submitted to the PGME office for review by the “Program descriptions sent to PGME office for approval” deadline.
URL:https://www.carms.ca/event/program-descriptions-open-for-editing-4/
CATEGORIES:Faculty,PGME,Program,R-1 First Iteration
ORGANIZER;CN="CaRMS":MAILTO:help@carms.ca
END:VEVENT
BEGIN:VEVENT
DTSTART;TZID=America/Toronto:20250827T120000
DTEND;TZID=America/Toronto:20250827T120000
DTSTAMP:20260419T003105
CREATED:20210119T205537Z
LAST-MODIFIED:20250514T192715Z
UID:25784-1756296000-1756296000@www.carms.ca
SUMMARY:DEADLINE: Program descriptions sent to PGME office for approval
DESCRIPTION:Program directors and administrators must submit their program descriptions to their postgraduate offices for review and approval by 12:00 ET on this date.
URL:https://www.carms.ca/event/deadline-program-descriptions-sent-to-pgme-office-for-approval/
CATEGORIES:Faculty,PGME,Program,R-1 First Iteration
ORGANIZER;CN="CaRMS":MAILTO:help@carms.ca
END:VEVENT
BEGIN:VEVENT
DTSTART;TZID=America/Toronto:20250910T120000
DTEND;TZID=America/Toronto:20250910T120000
DTSTAMP:20260419T003105
CREATED:20210119T205744Z
LAST-MODIFIED:20260129T200237Z
UID:25786-1757505600-1757505600@www.carms.ca
SUMMARY:CaRMS Online opens for applicants
DESCRIPTION:Applicants may begin the application process. \nCurrent year Canadian medical graduates (CMGs)\, are sent an email with information on how to log into CaRMS Online and start their application. \nApplicants who participated in a previous match can log into their CaRMS Online account using their existing username and password to participate in the match. Anyone who has forgotten their username or password can click on the ‘Forgot your password’ option on the CaRMS Online login page. \nApplicants who are not current year Canadian medical graduates (CMGs) and do not already have a CaRMS Online account\, will need to register for the match.
URL:https://www.carms.ca/event/carms-online-opens-for-applicants/
CATEGORIES:Applicant,Faculty,PGME,Program,R-1 First Iteration,UGME
ORGANIZER;CN="CaRMS":MAILTO:help@carms.ca
END:VEVENT
BEGIN:VEVENT
DTSTART;TZID=America/Toronto:20250910T120000
DTEND;TZID=America/Toronto:20250910T120000
DTSTAMP:20260419T003105
CREATED:20210119T205911Z
LAST-MODIFIED:20250514T192837Z
UID:25788-1757505600-1757505600@www.carms.ca
SUMMARY:Program descriptions approved by PGME offices and available on carms.ca
DESCRIPTION:Program descriptions for all programs participating in the match should be approved and available on carms.ca for applicants to review. Once program descriptions are approved\, they are immediately available on carms.ca for applicants to consult.
URL:https://www.carms.ca/event/program-descriptions-published-on-carms-ca/
CATEGORIES:Applicant,Faculty,PGME,Program,R-1 First Iteration,UGME
ORGANIZER;CN="CaRMS":MAILTO:help@carms.ca
END:VEVENT
BEGIN:VEVENT
DTSTART;TZID=America/Toronto:20250910T120000
DTEND;TZID=America/Toronto:20250910T120000
DTSTAMP:20260419T003105
CREATED:20220607T141639Z
LAST-MODIFIED:20250514T193151Z
UID:32556-1757505600-1757505600@www.carms.ca
SUMMARY:CaRMS Online opens for applicants
DESCRIPTION:Applicants may begin the application process\, including sending reference requests through CaRMS Online.
URL:https://www.carms.ca/event/carms-online-opens-for-applicants-13/
CATEGORIES:Faculty,R-1 First Iteration,Referee
END:VEVENT
BEGIN:VEVENT
DTSTART;TZID=America/Toronto:20251006T170000
DTEND;TZID=America/Toronto:20251006T170000
DTSTAMP:20260419T003105
CREATED:20210120T185426Z
LAST-MODIFIED:20260129T192922Z
UID:25815-1759770000-1759770000@www.carms.ca
SUMMARY:DEADLINE: Translation requests for references
DESCRIPTION:Applicants who would like their references translated through the CaRMS-facilitated translation service must make the request through CaRMS Online by today to allow sufficient time for translation before file review begins. References must be available in the applicant’s CaRMS Online account in order for us to process the translation. \nAll requests for the translation of references submitted before the deadline are guaranteed to be completed and uploaded into the applicant’s CaRMS Online account before the opening of file review. \nWe will continue to process translations that are requested after this date\, but\, due to the high volume of requests\, we cannot guarantee they will be available in applicant accounts before file review begins.
URL:https://www.carms.ca/event/deadline-translation-requests-for-references/
CATEGORIES:Applicant,Faculty,R-1 First Iteration,Referee,UGME
ORGANIZER;CN="CaRMS":MAILTO:help@carms.ca
END:VEVENT
BEGIN:VEVENT
DTSTART;TZID=America/Toronto:20251016T120000
DTEND;TZID=America/Toronto:20251016T120000
DTSTAMP:20260419T003105
CREATED:20210119T210026Z
LAST-MODIFIED:20250514T193929Z
UID:25790-1760616000-1760616000@www.carms.ca
SUMMARY:Program selection opens for applicants and preliminary quota must be finalized
DESCRIPTION:Preliminary quota must be entered in the Quota Management section of your CaRMS Online account by this date. If quota is not entered\, applicants will not be able to apply. \nQuota can be modified up until the ranking\, quota and reversion approval deadline for PGME offices but cannot be reduced to 0.
URL:https://www.carms.ca/event/program-selection-opens-and-quota-must-be-finalized-5/
CATEGORIES:Faculty,PGME,R-1 First Iteration
ORGANIZER;CN="CaRMS":MAILTO:help@carms.ca
END:VEVENT
BEGIN:VEVENT
DTSTART;TZID=America/Toronto:20251016T120000
DTEND;TZID=America/Toronto:20251016T120000
DTSTAMP:20260419T003105
CREATED:20210119T210929Z
LAST-MODIFIED:20250514T194003Z
UID:25789-1760616000-1760616000@www.carms.ca
SUMMARY:Program selection opens
DESCRIPTION:Applicants can start selecting the programs to which they wish to apply and assigning requested documents.
URL:https://www.carms.ca/event/program-selection-opens/
CATEGORIES:Applicant,Faculty,Program,R-1 First Iteration,UGME
ORGANIZER;CN="CaRMS":MAILTO:help@carms.ca
END:VEVENT
BEGIN:VEVENT
DTSTART;TZID=America/Toronto:20251017T170000
DTEND;TZID=America/Toronto:20251017T170000
DTSTAMP:20260419T003105
CREATED:20230928T125833Z
LAST-MODIFIED:20250514T194555Z
UID:39830-1760720400-1760720400@www.carms.ca
SUMMARY:DEADLINE: Proof of citizenship/legal status through the Medical Council of Canada (MCC) for Canadian Medical Graduates and U.S. Allopathic Medical Graduates
DESCRIPTION:There are two options to prove your citizenship/legal status. If you choose the option of verifying your citizenship/legal status through the Medical Council of Canada (MCC) you must first register for a physiciansapply.ca account\, apply for your MCCQE Part I examination\, and send the required documents to the MCC no later than this date. This will ensure that your citizenship/legal status will be verified by the application deadline of November 27 at 12:00 (noon) ET.
URL:https://www.carms.ca/event/deadline-proof-of-citizenship-legal-status-through-the-medical-council-of-canada-mcc-for-canadian-medical-graduates-and-u-s-allopathic-medical-graduates/
CATEGORIES:Applicant,R-1 First Iteration,UGME
END:VEVENT
BEGIN:VEVENT
DTSTART;TZID=America/Toronto:20251020T170000
DTEND;TZID=America/Toronto:20251020T170000
DTSTAMP:20260419T003105
CREATED:20221021T130805Z
LAST-MODIFIED:20260129T193442Z
UID:34659-1760979600-1760979600@www.carms.ca
SUMMARY:DEADLINE EXTENDED TO OCTOBER 20: Medical School Performance Records (MSPRs) sent by Canadian faculties (for translation)
DESCRIPTION:Faculties must send their students’ MSPRs to CaRMS by this date so that applicants can request the translation in their CaRMS Online account prior to the applicant translation request deadline for MSPRs of October 23. \nApplicants can verify whether documents have been received through the Document Tracking section in CaRMS Online. \nIt is the applicant’s responsibility to ensure their faculty is aware that their MSPR must be sent on October 10 as opposed to the November 14 deadline to facilitate the MSPR translation process. \nWe will continue to upload documents that arrive after this date\, but\, due to the high volume of documents received\, we cannot guarantee they will be available in applicant accounts before the translation requests deadline for MSPRs. \n* This deadline has been extended for all faculties to accommodate medical learners in Quebec affected by the current physicians strike. 
URL:https://www.carms.ca/event/deadline-medical-school-performance-records-msprs-sent-by-canadian-faculties-for-translation/
CATEGORIES:Applicant,Faculty,R-1 First Iteration,UGME
END:VEVENT
BEGIN:VEVENT
DTSTART;TZID=America/Toronto:20251023T170000
DTEND;TZID=America/Toronto:20251023T170000
DTSTAMP:20260419T003105
CREATED:20221021T131011Z
LAST-MODIFIED:20260129T193517Z
UID:34664-1761238800-1761238800@www.carms.ca
SUMMARY:DEADLINE EXTENDED TO OCTOBER 23*: Translation requests for Medical School Performance Records (MSPRs)
DESCRIPTION:Applicants who would like their MSPRs translated through the CaRMS-facilitated translation service must make the request through CaRMS Online by this time to allow sufficient time for translation before file review begins. MSPRs must be available in the applicant’s CaRMS Online account in order for us to process the translation. \nAll requests for the translation of MSPRs submitted before the deadline are guaranteed to be completed and uploaded into the applicant’s CaRMS Online account before the opening of file review. \nWe will continue to process translations that are requested after this time\, but\, due to the high volume of requests\, we cannot guarantee they will be available in applicant accounts before file review begins. \n* This deadline has been extended for all applicants to accommodate medical learners in Quebec affected by the current physicians strike. 
URL:https://www.carms.ca/event/deadline-translation-requests-for-medical-school-performance-records-msprs/
CATEGORIES:Applicant,Faculty,R-1 First Iteration,UGME
END:VEVENT
BEGIN:VEVENT
DTSTART;TZID=America/Toronto:20251105T120000
DTEND;TZID=America/Toronto:20251105T120000
DTSTAMP:20260419T003105
CREATED:20240906T155445Z
LAST-MODIFIED:20250702T201326Z
UID:43019-1762344000-1762344000@www.carms.ca
SUMMARY:Program descriptions open for editing
DESCRIPTION:Program directors and administrators may log into CaRMS Online and start updating their program descriptions. Program descriptions must be finalized and submitted to the PGME office for review by the “Program descriptions sent to PGME office for approval” deadline.
URL:https://www.carms.ca/event/program-descriptions-open-for-editing-5/
CATEGORIES:Faculty,PGME,Program,PSM
ORGANIZER;CN="CaRMS":MAILTO:help@carms.ca
END:VEVENT
BEGIN:VEVENT
DTSTART;TZID=America/Toronto:20251105T120000
DTEND;TZID=America/Toronto:20251105T120000
DTSTAMP:20260419T003105
CREATED:20240906T155621Z
LAST-MODIFIED:20250703T160316Z
UID:43023-1762344000-1762344000@www.carms.ca
SUMMARY:CaRMS Online opens for PGME offices\, program directors and administrators
DESCRIPTION:If you were a PGME\, program administrator or director for a previous CaRMS match\, you can log into CaRMS Online using your existing username and password. If you have forgotten your username or password\, click on the ‘Forgot your password option’ on the CaRMS Online login page. \nIf you are a new program director or administrator for this match and have not received an email\, please contact your PGME office.
URL:https://www.carms.ca/event/carms-online-opens-for-pgme-offices-program-directors-and-administrators/
CATEGORIES:Faculty,PGME,Program,PSM
ORGANIZER;CN="CaRMS":MAILTO:help@carms.ca
END:VEVENT
BEGIN:VEVENT
DTSTART;TZID=America/Toronto:20251106T170000
DTEND;TZID=America/Toronto:20251106T170000
DTSTAMP:20260419T003105
CREATED:20251024T174605Z
LAST-MODIFIED:20251024T174954Z
UID:50318-1762448400-1762448400@www.carms.ca
SUMMARY:NEW DEADLINE: Translation requests for references
DESCRIPTION:* A second translation request deadline for references has been added to accommodate medical learners in Quebec affected by the physicians’ strike.  \nApplicants who would like their references to be translated through the CaRMS-facilitated translation service must make the request through CaRMS Online by today to allow sufficient time for translation before file review begins. References must be available in the applicant’s CaRMS Online account in order for us to process the translation. \nWe anticipate that all translated references requested before this new deadline will be available in applicants’ CaRMS Online accounts before the application deadline. While we cannot guarantee this\, as translation volumes can vary\, we fully expect to be able to meet this timeline.
URL:https://www.carms.ca/event/new-deadline-translation-requests-for-references/
CATEGORIES:Applicant,Faculty,R-1 First Iteration,UGME
END:VEVENT
BEGIN:VEVENT
DTSTART;TZID=America/Toronto:20251113T120000
DTEND;TZID=America/Toronto:20251113T120000
DTSTAMP:20260419T003105
CREATED:20210119T210104Z
LAST-MODIFIED:20250514T194656Z
UID:25791-1763035200-1763035200@www.carms.ca
SUMMARY:Filter and file reviewer setup
DESCRIPTION:Program directors and administrators can add or remove file reviewers for their program(s) and create filters in preparation for file review. \nOnce file reviewers have been added\, they will receive an email from CaRMS with instructions on how to create an account in CaRMS Online. \nApplications will be available for review when file review opens.
URL:https://www.carms.ca/event/filter-and-file-reviewer-setup-5/
CATEGORIES:Faculty,File Reviewer,PGME,Program,R-1 First Iteration
ORGANIZER;CN="CaRMS":MAILTO:help@carms.ca
END:VEVENT
BEGIN:VEVENT
DTSTART;VALUE=DATE:20251114
DTEND;VALUE=DATE:20251115
DTSTAMP:20260419T003105
CREATED:20210120T185337Z
LAST-MODIFIED:20250514T194638Z
UID:25813-1763078400-1763164799@www.carms.ca
SUMMARY:DEADLINE: Transcripts and MSPRs sent by faculties
DESCRIPTION:Medical School Performance Records (MSPR) and transcripts should arrive by today to guarantee they will be uploaded into applicant accounts before the opening of file review. Applicants can verify whether documents have been received through the Document Tracking section in CaRMS Online. \nIt is the applicant’s responsibility to follow university procedures to ensure their medical school transcript and MSPR are sent directly to CaRMS. \nWe will continue to upload documents that arrive after this date\, but\, due to the high volume of documents received\, we cannot guarantee they will be available in applicant accounts before file review begins.
URL:https://www.carms.ca/event/deadline-transcripts-and-msprs-sent-by-faculties-not-requiring-translation/
CATEGORIES:Applicant,Faculty,R-1 First Iteration,UGME
ORGANIZER;CN="CaRMS":MAILTO:help@carms.ca
END:VEVENT
BEGIN:VEVENT
DTSTART;TZID=America/Toronto:20251119T120000
DTEND;TZID=America/Toronto:20251119T120000
DTSTAMP:20260419T003105
CREATED:20210112T151712Z
LAST-MODIFIED:20250702T201342Z
UID:24675-1763553600-1763553600@www.carms.ca
SUMMARY:DEADLINE: Program descriptions sent to PGME office for approval
DESCRIPTION:Program directors and administrators must submit their program descriptions to their postgraduate offices for review and approval by 12:00 ET on this date.
URL:https://www.carms.ca/event/deadline-program-descriptions-sent-to-pgme-office-for-approval-3/
CATEGORIES:Faculty,PGME,Program,PSM
ORGANIZER;CN="CaRMS":MAILTO:help@carms.ca
END:VEVENT
BEGIN:VEVENT
DTSTART;TZID=America/Toronto:20251126T210000
DTEND;TZID=America/Toronto:20251126T210000
DTSTAMP:20260419T003105
CREATED:20210120T200354Z
LAST-MODIFIED:20250514T194741Z
UID:25847-1764190800-1764190800@www.carms.ca
SUMMARY:DEADLINE: Reference submission
DESCRIPTION:Referees must submit references through the CaRMS Online referee portal by this date to give applicants enough time to assign reference materials to programs before the opening of file review. \nReferees can submit references after this date and time; however\, this may impact the time available for applicants to submit complete applications to programs prior to the opening of file review. \nIf applicants would like their references to be translated by the CaRMS-facilitated translation service\, they must be submitted before the translation request deadline.
URL:https://www.carms.ca/event/deadline-reference-submission-6/
CATEGORIES:Applicant,Faculty,R-1 First Iteration,UGME
ORGANIZER;CN="CaRMS":MAILTO:help@carms.ca
END:VEVENT
BEGIN:VEVENT
DTSTART;TZID=America/Toronto:20251126T210000
DTEND;TZID=America/Toronto:20251126T210000
DTSTAMP:20260419T003105
CREATED:20210120T200421Z
LAST-MODIFIED:20250514T194811Z
UID:25863-1764190800-1764190800@www.carms.ca
SUMMARY:DEADLINE: Reference submission
DESCRIPTION:References must be submitted by this date to give applicants enough time to assign them to programs before the opening of file review. \nReferees can submit references after this date and time; however\, this may impact the time available for applicants to submit complete applications to programs prior to the opening of file review on November 27 at 12:00 ET. \nIf applicants would like their references to be translated by the CaRMS-facilitated translation service\, they must be submitted before the translation request deadline of October 6 at 17:00 ET.
URL:https://www.carms.ca/event/deadline-reference-submission-7/
CATEGORIES:Faculty,R-1 First Iteration,Referee
ORGANIZER;CN="CaRMS":MAILTO:help@carms.ca
END:VEVENT
BEGIN:VEVENT
DTSTART;TZID=America/Toronto:20251127T120000
DTEND;TZID=America/Toronto:20251127T120000
DTSTAMP:20260419T003105
CREATED:20210120T200508Z
LAST-MODIFIED:20250515T154715Z
UID:25869-1764244800-1764244800@www.carms.ca
SUMMARY:DEADLINE: Submission and assignment of applications and documents
DESCRIPTION:Applications and all required documents must be submitted and assigned to programs by 12:00 (noon) ET today to be considered on time. \nAny applications and documents submitted or assigned after 12:00 (noon) ET today will be time-stamped as late. \nSome programs will not review late applications or documents. Consult program descriptions to ensure programs will review your application if it is submitted after file review has begun.
URL:https://www.carms.ca/event/deadline-submission-and-assignment-of-applications-and-documents-5/
CATEGORIES:Applicant,Faculty,R-1 First Iteration,UGME
ORGANIZER;CN="CaRMS":MAILTO:help@carms.ca
END:VEVENT
BEGIN:VEVENT
DTSTART;TZID=America/Toronto:20251127T120500
DTEND;TZID=America/Toronto:20251127T120500
DTSTAMP:20260419T003105
CREATED:20210120T200550Z
LAST-MODIFIED:20250514T194856Z
UID:25864-1764245100-1764245100@www.carms.ca
SUMMARY:File review begins
DESCRIPTION:Programs now have access to all submitted applications and documents. \nPrograms may now start updating applicants’ interview offer status.
URL:https://www.carms.ca/event/file-review-begins/
CATEGORIES:Applicant,Faculty,File Reviewer,PGME,Program,R-1 First Iteration,UGME
ORGANIZER;CN="CaRMS":MAILTO:help@carms.ca
END:VEVENT
BEGIN:VEVENT
DTSTART;TZID=America/Toronto:20251203T120000
DTEND;TZID=America/Toronto:20251203T120000
DTSTAMP:20260419T003105
CREATED:20210112T152509Z
LAST-MODIFIED:20250703T160310Z
UID:25494-1764763200-1764763200@www.carms.ca
SUMMARY:CaRMS Online opens for applicants
DESCRIPTION:Applicants may begin the application process. \nApplicants who participated in a previous match can log into their CaRMS Online account using their existing username and password to participate in the match. Anyone who has forgotten their username or password can click on the ‘Forgot your password’ option on the CaRMS Online login page.
URL:https://www.carms.ca/event/carms-online-opens-for-applicants-3/
CATEGORIES:Applicant,Faculty,PGME,Program,PSM
ORGANIZER;CN="CaRMS":MAILTO:help@carms.ca
END:VEVENT
BEGIN:VEVENT
DTSTART;TZID=America/Toronto:20251203T120000
DTEND;TZID=America/Toronto:20251203T120000
DTSTAMP:20260419T003105
CREATED:20210112T153245Z
LAST-MODIFIED:20250702T201404Z
UID:25499-1764763200-1764763200@www.carms.ca
SUMMARY:Program descriptions approved by PGME offices and available on carms.ca
DESCRIPTION:Program descriptions for all programs participating in the match should be approved and available on carms.ca for applicants to review. Once program descriptions are approved\, they are immediately available on carms.ca for applicants to consult.
URL:https://www.carms.ca/event/program-descriptions-published-on-carms-ca-3/
CATEGORIES:Applicant,Faculty,PGME,Program,PSM
ORGANIZER;CN="CaRMS":MAILTO:help@carms.ca
END:VEVENT
BEGIN:VEVENT
DTSTART;TZID=America/Toronto:20251203T120000
DTEND;TZID=America/Toronto:20251203T120000
DTSTAMP:20260419T003105
CREATED:20210114T154349Z
LAST-MODIFIED:20250702T201418Z
UID:25645-1764763200-1764763200@www.carms.ca
SUMMARY:CaRMS Online opens for applicants
DESCRIPTION:Applicants may begin the application process\, including sending reference requests through CaRMS Online.
URL:https://www.carms.ca/event/carms-online-opens-for-applicants-9/
CATEGORIES:Faculty,PSM,Referee
ORGANIZER;CN="CaRMS":MAILTO:help@carms.ca
END:VEVENT
BEGIN:VEVENT
DTSTART;TZID=America/Toronto:20251203T120000
DTEND;TZID=America/Toronto:20251203T120000
DTSTAMP:20260419T003105
CREATED:20241108T151721Z
LAST-MODIFIED:20250514T195411Z
UID:44535-1764763200-1764763200@www.carms.ca
SUMMARY:Program descriptions open for editing for particular stream programs in Québec
DESCRIPTION:Program directors and administrators for newly participating programs may log into CaRMS Online and start updating their program descriptions. Program descriptions must be finalized and submitted to the PGME office for review by the “Program descriptions sent to PGME office for approval for particular stream programs in Québec” deadline.
URL:https://www.carms.ca/event/program-descriptions-open-for-editing-for-particular-stream-programs-in-quebec/
CATEGORIES:Faculty,PGME,Program,R-1 Second Iteration
END:VEVENT
BEGIN:VEVENT
DTSTART;TZID=America/Toronto:20251208T170000
DTEND;TZID=America/Toronto:20251208T170000
DTSTAMP:20260419T003105
CREATED:20251201T152536Z
LAST-MODIFIED:20251205T135155Z
UID:50816-1765213200-1765213200@www.carms.ca
SUMMARY:NEW DEADLINE: Supplementary application window – Submission and assignment of applications and documents for Ontario IMG programs
DESCRIPTION:The Province of Ontario’s IMG eligibility requirement of two years of in-province high school has been stayed by Court order. As a result of this decision\, a new extended application window has been created for submission to Ontario-based IMG programs. The new application deadline is Monday\, December 8 at 17:00 ET. All application packages submitted before this time will be considered on-time applications.  \nMore information is available on carms.ca and in the CaRMS Help Centre.
URL:https://www.carms.ca/event/new-deadline-supplementary-application-window-submission-and-assignment-of-applications-and-documents-for-ontario-img-programs/
CATEGORIES:Applicant,Faculty,R-1 First Iteration,UGME
END:VEVENT
BEGIN:VEVENT
DTSTART;TZID=America/Toronto:20251217T120000
DTEND;TZID=America/Toronto:20251217T120000
DTSTAMP:20260419T003105
CREATED:20210112T151701Z
LAST-MODIFIED:20250702T201436Z
UID:24693-1765972800-1765972800@www.carms.ca
SUMMARY:Program selection opens
DESCRIPTION:Applicants can start selecting the programs to which they wish to apply and assigning requested documents.
URL:https://www.carms.ca/event/program-selection-opens-3/
CATEGORIES:Applicant,Faculty,Program,PSM
ORGANIZER;CN="CaRMS":MAILTO:help@carms.ca
END:VEVENT
BEGIN:VEVENT
DTSTART;TZID=America/Toronto:20251217T120000
DTEND;TZID=America/Toronto:20251217T120000
DTSTAMP:20260419T003105
CREATED:20210112T151705Z
LAST-MODIFIED:20250702T201445Z
UID:24694-1765972800-1765972800@www.carms.ca
SUMMARY:Program selection opens
DESCRIPTION:Applicants can start selecting the programs to which they wish to apply and assigning requested documents. \nEnsure quota is entered in the Quota Management section of your CaRMS Online account.
URL:https://www.carms.ca/event/program-selection-opens-4/
CATEGORIES:Faculty,PGME,PSM
ORGANIZER;CN="CaRMS":MAILTO:help@carms.ca
END:VEVENT
BEGIN:VEVENT
DTSTART;TZID=America/Toronto:20251217T120000
DTEND;TZID=America/Toronto:20251217T120000
DTSTAMP:20260419T003105
CREATED:20241111T165641Z
LAST-MODIFIED:20250514T195454Z
UID:44582-1765972800-1765972800@www.carms.ca
SUMMARY:DEADLINE: Program descriptions sent to PGME office for approval for particular stream programs in Québec
DESCRIPTION:Program directors and administrators for newly participating programs must submit their program descriptions to their postgraduate offices for review and approval by 12:00 ET on this date.
URL:https://www.carms.ca/event/deadline-program-descriptions-sent-to-pgme-office-for-approval-for-particular-stream-programs-in-quebec/
CATEGORIES:Faculty,PGME,Program,R-1 Second Iteration
END:VEVENT
END:VCALENDAR